BEGIN:VCALENDAR
VERSION:2.0
PRODID:-//Lac La Biche Golf Club - ECPv6.15.18//NONSGML v1.0//EN
CALSCALE:GREGORIAN
METHOD:PUBLISH
X-WR-CALNAME:Lac La Biche Golf Club
X-ORIGINAL-URL:https://www.golflaclabiche.ca
X-WR-CALDESC:Events for Lac La Biche Golf Club
REFRESH-INTERVAL;VALUE=DURATION:PT1H
X-Robots-Tag:noindex
X-PUBLISHED-TTL:PT1H
BEGIN:VTIMEZONE
TZID:UTC
BEGIN:STANDARD
TZOFFSETFROM:+0000
TZOFFSETTO:+0000
TZNAME:UTC
DTSTART:20250101T000000
END:STANDARD
END:VTIMEZONE
BEGIN:VEVENT
DTSTART;TZID=UTC:20260522T120000
DTEND;TZID=UTC:20260522T160000
DTSTAMP:20260422T093428
CREATED:20260421T122830Z
LAST-MODIFIED:20260421T122830Z
UID:10000001-1779451200-1779465600@www.golflaclabiche.ca
SUMMARY:Callaway Demo Day
DESCRIPTION:Friday May 22nd\, 12:00-4:00pm                                                   Callaway Demo Day
URL:https://www.golflaclabiche.ca/event-calendar/callaway-demo-day/
END:VEVENT
BEGIN:VEVENT
DTSTART;TZID=UTC:20260527T100000
DTEND;TZID=UTC:20260527T100000
DTSTAMP:20260422T093428
CREATED:20260421T122920Z
LAST-MODIFIED:20260421T122920Z
UID:10000002-1779876000-1779876000@www.golflaclabiche.ca
SUMMARY:Conklin Community Invitational
DESCRIPTION:Wednesday May 27th\, 10:00a.m. Full Shot-Gun                    Conklin Community Invitational
URL:https://www.golflaclabiche.ca/event-calendar/conklin-community-invitational/
END:VEVENT
BEGIN:VEVENT
DTSTART;TZID=UTC:20260607T100000
DTEND;TZID=UTC:20260607T100000
DTSTAMP:20260422T093428
CREATED:20260421T123004Z
LAST-MODIFIED:20260421T123004Z
UID:10000003-1780826400-1780826400@www.golflaclabiche.ca
SUMMARY:Lac La Biche Open Scramble
DESCRIPTION:Sunday June 7th\, 10:00a.m. Full Shot-Gun                               Lac La Biche Open Scramble
URL:https://www.golflaclabiche.ca/event-calendar/lac-la-biche-open-scramble/
END:VEVENT
BEGIN:VEVENT
DTSTART;TZID=UTC:20260613T100000
DTEND;TZID=UTC:20260613T100000
DTSTAMP:20260422T093428
CREATED:20260421T123055Z
LAST-MODIFIED:20260421T123055Z
UID:10000004-1781344800-1781344800@www.golflaclabiche.ca
SUMMARY:Rotary Memorial Fundraiser
DESCRIPTION:Saturday June 13th\, 10:00a.m. Full Shot-Gun                        Rotary Memorial Fundraiser
URL:https://www.golflaclabiche.ca/event-calendar/rotary-memorial-fundraiser/
END:VEVENT
BEGIN:VEVENT
DTSTART;TZID=UTC:20260625T100000
DTEND;TZID=UTC:20260625T100000
DTSTAMP:20260422T093428
CREATED:20260421T123143Z
LAST-MODIFIED:20260421T123143Z
UID:10000005-1782381600-1782381600@www.golflaclabiche.ca
SUMMARY:Road to Hope Fundraiser
DESCRIPTION:Thursday June 25th\, 10:00a.m. Full Shot-Gun                        Road to Hope Fundraiser
URL:https://www.golflaclabiche.ca/event-calendar/road-to-hope-fundraiser/
END:VEVENT
BEGIN:VEVENT
DTSTART;TZID=UTC:20260627T150000
DTEND;TZID=UTC:20260627T150000
DTSTAMP:20260422T093428
CREATED:20260421T123259Z
LAST-MODIFIED:20260421T123259Z
UID:10000006-1782572400-1782572400@www.golflaclabiche.ca
SUMMARY:Members front 9 Grand Opening
DESCRIPTION:Saturday June 27th\, 3:00 p.m.   Full Shot-Gun                       Members front 9 Grand Opening
URL:https://www.golflaclabiche.ca/event-calendar/members-front-9-grand-opening/
END:VEVENT
BEGIN:VEVENT
DTSTART;TZID=UTC:20260708T100000
DTEND;TZID=UTC:20260708T100000
DTSTAMP:20260422T093428
CREATED:20260421T123352Z
LAST-MODIFIED:20260421T123352Z
UID:10000007-1783504800-1783504800@www.golflaclabiche.ca
SUMMARY:Beaver Lake
DESCRIPTION:Wednesday July 8th\, 10:00a.m. Full Shotgun                                         Beaver Lake
URL:https://www.golflaclabiche.ca/event-calendar/beaver-lake/
END:VEVENT
BEGIN:VEVENT
DTSTART;TZID=UTC:20260709T100000
DTEND;TZID=UTC:20260709T100000
DTSTAMP:20260422T093428
CREATED:20260421T123447Z
LAST-MODIFIED:20260421T123447Z
UID:10000008-1783591200-1783591200@www.golflaclabiche.ca
SUMMARY:Kikino
DESCRIPTION:Thursday July 9th\, 10:00a.m. Full Shotgun                                               Kikino
URL:https://www.golflaclabiche.ca/event-calendar/kikino/
END:VEVENT
BEGIN:VEVENT
DTSTART;TZID=UTC:20260712T100000
DTEND;TZID=UTC:20260712T100000
DTSTAMP:20260422T093428
CREATED:20260421T123540Z
LAST-MODIFIED:20260421T123540Z
UID:10000009-1783850400-1783850400@www.golflaclabiche.ca
SUMMARY:Lebanese Invitational
DESCRIPTION:Sunday July 12th\, 10:00 a.m. Full Shotgun                                               Lebanese Invitational
URL:https://www.golflaclabiche.ca/event-calendar/lebanese-invitational/
END:VEVENT
BEGIN:VEVENT
DTSTART;TZID=UTC:20260716T100000
DTEND;TZID=UTC:20260716T100000
DTSTAMP:20260422T093428
CREATED:20260421T123618Z
LAST-MODIFIED:20260421T123618Z
UID:10000010-1784196000-1784196000@www.golflaclabiche.ca
SUMMARY:LLB County
DESCRIPTION:Thursday July 16th\, 10:00a.m. Full-Shotgun                                            LLB County
URL:https://www.golflaclabiche.ca/event-calendar/llb-county/
END:VEVENT
BEGIN:VEVENT
DTSTART;TZID=UTC:20260719T100000
DTEND;TZID=UTC:20260719T100000
DTSTAMP:20260422T093428
CREATED:20260421T123706Z
LAST-MODIFIED:20260421T123706Z
UID:10000011-1784455200-1784455200@www.golflaclabiche.ca
SUMMARY:Lac La Biche Two-Man Scramble
DESCRIPTION:Sunday July 19th\, 10:00a.m. Full Shotgun                                                Lac La Biche Two-Man Scramble
URL:https://www.golflaclabiche.ca/event-calendar/lac-la-biche-two-man-scramble/
END:VEVENT
BEGIN:VEVENT
DTSTART;TZID=UTC:20260725T100000
DTEND;TZID=UTC:20260725T100000
DTSTAMP:20260422T093428
CREATED:20260421T123746Z
LAST-MODIFIED:20260421T123746Z
UID:10000012-1784973600-1784973600@www.golflaclabiche.ca
SUMMARY:Lac La Biche Ladies Scramble
DESCRIPTION:Saturday July 25th\, 10:00a.m. Full Shotgun                                             Lac La Biche Ladies Scramble
URL:https://www.golflaclabiche.ca/event-calendar/lac-la-biche-ladies-scramble/
END:VEVENT
BEGIN:VEVENT
DTSTART;TZID=UTC:20260806T100000
DTEND;TZID=UTC:20260806T100000
DTSTAMP:20260422T093428
CREATED:20260421T123828Z
LAST-MODIFIED:20260421T123828Z
UID:10000013-1786010400-1786010400@www.golflaclabiche.ca
SUMMARY:Lac La Biche County
DESCRIPTION:Thursday August 6th\, 10:00a.m. Full Shotgun                                        Lac La Biche County
URL:https://www.golflaclabiche.ca/event-calendar/lac-la-biche-county/
END:VEVENT
BEGIN:VEVENT
DTSTART;TZID=UTC:20260807T100000
DTEND;TZID=UTC:20260807T100000
DTSTAMP:20260422T093428
CREATED:20260421T123907Z
LAST-MODIFIED:20260421T123907Z
UID:10000014-1786096800-1786096800@www.golflaclabiche.ca
SUMMARY:Alpac
DESCRIPTION:Friday August 7th\, 10:00a.m. Full Shotgun                                              Alpac
URL:https://www.golflaclabiche.ca/event-calendar/alpac/
END:VEVENT
BEGIN:VEVENT
DTSTART;TZID=UTC:20260819T110000
DTEND;TZID=UTC:20260819T110000
DTSTAMP:20260422T093428
CREATED:20260421T123942Z
LAST-MODIFIED:20260421T123942Z
UID:10000015-1787137200-1787137200@www.golflaclabiche.ca
SUMMARY:Russian Cup
DESCRIPTION:Wednesday August 19th\, 11:00a.m.                                                          Russian Cup
URL:https://www.golflaclabiche.ca/event-calendar/russian-cup/
END:VEVENT
BEGIN:VEVENT
DTSTART;TZID=UTC:20260820T100000
DTEND;TZID=UTC:20260820T100000
DTSTAMP:20260422T093428
CREATED:20260421T124023Z
LAST-MODIFIED:20260421T124023Z
UID:10000016-1787220000-1787220000@www.golflaclabiche.ca
SUMMARY:Portage College PCAA
DESCRIPTION:Thursday August 20th\, 10:00a.m. Full Shotgun                                      Portage College PCAA
URL:https://www.golflaclabiche.ca/event-calendar/portage-college-pcaa/
END:VEVENT
BEGIN:VEVENT
DTSTART;TZID=UTC:20260822T100000
DTEND;TZID=UTC:20260823T100000
DTSTAMP:20260422T093428
CREATED:20260421T124120Z
LAST-MODIFIED:20260421T124120Z
UID:10000017-1787392800-1787479200@www.golflaclabiche.ca
SUMMARY:Club Championship
DESCRIPTION:Saturday Sunday August 22nd\, 23rd\, 10a.m. Half Shotgun                 Club Championship
URL:https://www.golflaclabiche.ca/event-calendar/club-championship/
END:VEVENT
BEGIN:VEVENT
DTSTART;TZID=UTC:20260828T100000
DTEND;TZID=UTC:20260828T100000
DTSTAMP:20260422T093428
CREATED:20260421T124208Z
LAST-MODIFIED:20260421T124208Z
UID:10000018-1787911200-1787911200@www.golflaclabiche.ca
SUMMARY:Heart Lake Pow-Wow Days
DESCRIPTION:Friday August 28th\, Full Shotgun                                                             Heart Lake Pow-Wow Days
URL:https://www.golflaclabiche.ca/event-calendar/heart-lake-pow-wow-days/
END:VEVENT
BEGIN:VEVENT
DTSTART;TZID=UTC:20260829T100000
DTEND;TZID=UTC:20260829T100000
DTSTAMP:20260422T093428
CREATED:20260421T124259Z
LAST-MODIFIED:20260421T124259Z
UID:10000019-1787997600-1787997600@www.golflaclabiche.ca
SUMMARY:Ooh-Tah
DESCRIPTION:Saturday August 29th\, Full Shotgun                                                          Ooh-Tah
URL:https://www.golflaclabiche.ca/event-calendar/ooh-tah/
END:VEVENT
BEGIN:VEVENT
DTSTART;TZID=UTC:20260912T100000
DTEND;TZID=UTC:20260913T100000
DTSTAMP:20260422T093428
CREATED:20260421T124345Z
LAST-MODIFIED:20260421T124345Z
UID:10000020-1789207200-1789293600@www.golflaclabiche.ca
SUMMARY:LLB Ryder Cup
DESCRIPTION:Saturday Sunday September 12th\, 13th\, Half Shotgun                        LLB Ryder Cup
URL:https://www.golflaclabiche.ca/event-calendar/llb-ryder-cup/
END:VEVENT
BEGIN:VEVENT
DTSTART;TZID=UTC:20260920T100000
DTEND;TZID=UTC:20260920T100000
DTSTAMP:20260422T093428
CREATED:20260421T124428Z
LAST-MODIFIED:20260421T124428Z
UID:10000021-1789898400-1789898400@www.golflaclabiche.ca
SUMMARY:One-Man Scramble
DESCRIPTION:Sunday September 20th\, Full Shotgun                                                     One-Man Scramble
URL:https://www.golflaclabiche.ca/event-calendar/one-man-scramble/
END:VEVENT
BEGIN:VEVENT
DTSTART;TZID=UTC:20260924T080000
DTEND;TZID=UTC:20260927T170000
DTSTAMP:20260422T093428
CREATED:20260421T124526Z
LAST-MODIFIED:20260421T124526Z
UID:10000022-1790236800-1790528400@www.golflaclabiche.ca
SUMMARY:ACAC Championship
DESCRIPTION:Thursday to Sunday September 24th-27th\, Tee Times                        ACAC Championship
URL:https://www.golflaclabiche.ca/event-calendar/acac-championship/
END:VEVENT
END:VCALENDAR